BEGIN:VCALENDAR
VERSION:2.0
PRODID:-//IJmond Agenda - ECPv6.2.9//NONSGML v1.0//EN
CALSCALE:GREGORIAN
METHOD:PUBLISH
X-WR-CALNAME:IJmond Agenda
X-ORIGINAL-URL:https://ijmondagenda.nl
X-WR-CALDESC:Evenementen voor IJmond Agenda
REFRESH-INTERVAL;VALUE=DURATION:PT1H
X-Robots-Tag:noindex
X-PUBLISHED-TTL:PT1H
BEGIN:VTIMEZONE
TZID:Europe/Amsterdam
BEGIN:DAYLIGHT
TZOFFSETFROM:+0100
TZOFFSETTO:+0200
TZNAME:CEST
DTSTART:20240331T010000
END:DAYLIGHT
BEGIN:STANDARD
TZOFFSETFROM:+0200
TZOFFSETTO:+0100
TZNAME:CET
DTSTART:20241027T010000
END:STANDARD
TZID:Europe/Paris
BEGIN:DAYLIGHT
TZOFFSETFROM:+0100
TZOFFSETTO:+0200
TZNAME:CEST
DTSTART:20240331T010000
END:DAYLIGHT
BEGIN:STANDARD
TZOFFSETFROM:+0200
TZOFFSETTO:+0100
TZNAME:CET
DTSTART:20241027T010000
END:STANDARD
END:VTIMEZONE
BEGIN:VEVENT
DTSTART;VALUE=DATE:20240727
DTEND;VALUE=DATE:20240804
DTSTAMP:20260419T162834
CREATED:20240113T093405Z
LAST-MODIFIED:20240113T093405Z
UID:10000110-1722038400-1722729599@ijmondagenda.nl
SUMMARY:Dorpsfeest Santpoort
DESCRIPTION:
URL:https://ijmondagenda.nl/event/dorpsfeest-santpoort-2/
LOCATION:Hoofdstraat  Santpoort-Noord\, Hoofdstraat 150\, Santpoort-Noord\, 2071 EL\, Nederland
ORGANIZER;CN="Dorpsfeest Santpoort":MAILTO:info@dorpsfeest-santpoort.nl
GEO:52.4319282;4.6444739
X-APPLE-STRUCTURED-LOCATION;VALUE=URI;X-ADDRESS=Hoofdstraat  Santpoort-Noord Hoofdstraat 150 Santpoort-Noord 2071 EL Nederland;X-APPLE-RADIUS=500;X-TITLE=Hoofdstraat 150:geo:4.6444739,52.4319282
END:VEVENT
BEGIN:VEVENT
DTSTART;TZID=Europe/Amsterdam:20240717T173000
DTEND;TZID=Europe/Amsterdam:20240717T193000
DTSTAMP:20260419T162834
CREATED:20240113T091624Z
LAST-MODIFIED:20240113T091624Z
UID:10000101-1721237400-1721244600@ijmondagenda.nl
SUMMARY:Zomerfestivalborrel
DESCRIPTION:
URL:https://ijmondagenda.nl/event/zomerfestivalborrel/
LOCATION:Kennemerplein  IJmuiden\, Kennemerplein 21\, IJmuiden\, 1972EW\, Nederland
ORGANIZER;CN="Zomerfestival IJmuiden":MAILTO:info@.zomerfestivalijmuiden.nl
GEO:52.4597667;4.6062971
X-APPLE-STRUCTURED-LOCATION;VALUE=URI;X-ADDRESS=Kennemerplein  IJmuiden Kennemerplein 21 IJmuiden 1972EW Nederland;X-APPLE-RADIUS=500;X-TITLE=Kennemerplein 21:geo:4.6062971,52.4597667
END:VEVENT
BEGIN:VEVENT
DTSTART;VALUE=DATE:20240717
DTEND;VALUE=DATE:20240722
DTSTAMP:20260419T162834
CREATED:20240113T093321Z
LAST-MODIFIED:20240113T093321Z
UID:10000109-1721174400-1721606399@ijmondagenda.nl
SUMMARY:Zomerfestival IJmuiden
DESCRIPTION:
URL:https://ijmondagenda.nl/event/zomerfestival-ijmuiden-2/
LOCATION:Kennemerplein  IJmuiden\, Kennemerplein 21\, IJmuiden\, 1972EW\, Nederland
ORGANIZER;CN="Zomerfestival IJmuiden":MAILTO:info@.zomerfestivalijmuiden.nl
GEO:52.4597667;4.6062971
X-APPLE-STRUCTURED-LOCATION;VALUE=URI;X-ADDRESS=Kennemerplein  IJmuiden Kennemerplein 21 IJmuiden 1972EW Nederland;X-APPLE-RADIUS=500;X-TITLE=Kennemerplein 21:geo:4.6062971,52.4597667
END:VEVENT
BEGIN:VEVENT
DTSTART;TZID=Europe/Amsterdam:20240712T110000
DTEND;TZID=Europe/Amsterdam:20240712T230000
DTSTAMP:20260419T162834
CREATED:20240208T093848Z
LAST-MODIFIED:20240208T093917Z
UID:10000125-1720782000-1720825200@ijmondagenda.nl
SUMMARY:Business Volleybal Cup
DESCRIPTION:
URL:https://ijmondagenda.nl/event/business-volleybal-cup/
LOCATION:Zuidpier
ORGANIZER;CN="OV IJmond":MAILTO:info@ovijmond.nl
END:VEVENT
BEGIN:VEVENT
DTSTART;VALUE=DATE:20240704
DTEND;VALUE=DATE:20240707
DTSTAMP:20260419T162834
CREATED:20240113T093236Z
LAST-MODIFIED:20240113T093236Z
UID:10000108-1720051200-1720310399@ijmondagenda.nl
SUMMARY:Dorpsfeest Driehuis
DESCRIPTION:
URL:https://ijmondagenda.nl/event/dorpsfeest-driehuis-2/
ORGANIZER;CN="Dorpsfeest Driehuis":MAILTO:Info@dorpsfeestdriehuis.nl
END:VEVENT
BEGIN:VEVENT
DTSTART;TZID=Europe/Amsterdam:20240621T170000
DTEND;TZID=Europe/Amsterdam:20240621T190000
DTSTAMP:20260419T162834
CREATED:20240113T091439Z
LAST-MODIFIED:20240113T091439Z
UID:10000100-1718989200-1718996400@ijmondagenda.nl
SUMMARY:Havenfestivalborrel
DESCRIPTION:
URL:https://ijmondagenda.nl/event/havenfestivalborrel/
LOCATION:Vissershaven\, Trawlerkade 23\, IJmuiden\, 1976CC\, Nederland
END:VEVENT
BEGIN:VEVENT
DTSTART;VALUE=DATE:20240621
DTEND;VALUE=DATE:20240624
DTSTAMP:20260419T162834
CREATED:20240113T093120Z
LAST-MODIFIED:20240113T093120Z
UID:10000107-1718928000-1719187199@ijmondagenda.nl
SUMMARY:Havenfestival IJmuiden
DESCRIPTION:
URL:https://ijmondagenda.nl/event/havenfestival-ijmuiden/
LOCATION:Vissershaven\, Trawlerkade 23\, IJmuiden\, 1976CC\, Nederland
ORGANIZER;CN="Havenfestival":MAILTO:info@havenfestivalijmuiden.nl
END:VEVENT
BEGIN:VEVENT
DTSTART;TZID=Europe/Amsterdam:20240620T163000
DTEND;TZID=Europe/Amsterdam:20240620T190000
DTSTAMP:20260419T162834
CREATED:20240130T094233Z
LAST-MODIFIED:20240130T094233Z
UID:10000120-1718901000-1718910000@ijmondagenda.nl
SUMMARY:Haringparty OV IJmond
DESCRIPTION:
URL:https://ijmondagenda.nl/event/haringparty-ov-ijmond/
LOCATION:Vishal IJmuiden
ATTACH;FMTTYPE=image/png:https://ijmondagenda.nl/wp-content/uploads/2024/01/OV-IJmond.png
END:VEVENT
BEGIN:VEVENT
DTSTART;TZID=Europe/Amsterdam:20240525T080000
DTEND;TZID=Europe/Amsterdam:20240525T170000
DTSTAMP:20260419T162834
CREATED:20240308T161111Z
LAST-MODIFIED:20240308T161111Z
UID:10000127-1716624000-1716656400@ijmondagenda.nl
SUMMARY:Vissenloop
DESCRIPTION:Wandelevenement over diverse afstanden. Opbrengst voor KWF Kankerbestrijding. Zie www.vissenloop.nl
URL:https://ijmondagenda.nl/event/vissenloop-2/
END:VEVENT
BEGIN:VEVENT
DTSTART;TZID=Europe/Amsterdam:20240525T080000
DTEND;TZID=Europe/Amsterdam:20240525T170000
DTSTAMP:20260419T162834
CREATED:20240113T093016Z
LAST-MODIFIED:20240113T093016Z
UID:10000106-1716624000-1716656400@ijmondagenda.nl
SUMMARY:Vissenloop IJmuiden
DESCRIPTION:
URL:https://ijmondagenda.nl/event/vissenloop-ijmuiden/
ORGANIZER;CN="Vissenloop":MAILTO:info@vissenloop.nl
END:VEVENT
BEGIN:VEVENT
DTSTART;TZID=Europe/Amsterdam:20240522T163000
DTEND;TZID=Europe/Amsterdam:20240522T203000
DTSTAMP:20260419T162834
CREATED:20240115T100300Z
LAST-MODIFIED:20240408T182436Z
UID:10000118-1716395400-1716409800@ijmondagenda.nl
SUMMARY:Algemene Ledenvergadering OV IJmond
DESCRIPTION:
URL:https://ijmondagenda.nl/event/algemene-ledenvergadering-ov-ijmond/
LOCATION:Chateau Marquette\, Marquettelaan 34\, Heemskerk\, 1968 JT\, Nederland
ATTACH;FMTTYPE=image/png:https://ijmondagenda.nl/wp-content/uploads/2024/01/OV-IJmond.png
ORGANIZER;CN="OV IJmond":MAILTO:info@ovijmond.nl
END:VEVENT
BEGIN:VEVENT
DTSTART;TZID=Europe/Amsterdam:20240514T120000
DTEND;TZID=Europe/Amsterdam:20240514T140000
DTSTAMP:20260419T162834
CREATED:20240408T182409Z
LAST-MODIFIED:20240408T182409Z
UID:10000128-1715688000-1715695200@ijmondagenda.nl
SUMMARY:Lunchbijeenkomst – Voldoet jouw onderneming aan CSRD?
DESCRIPTION:
URL:https://ijmondagenda.nl/event/lunchbijeenkomst-voldoet-jouw-onderneming-aan-csrd/
LOCATION:Telstar 711 Stadion\, Minister van Houtenlaan 123\, Velsen-Zuid\, 1981 EK\, Nederland
ORGANIZER;CN="OV IJmond":MAILTO:info@ovijmond.nl
GEO:52.4549663;4.63413
X-APPLE-STRUCTURED-LOCATION;VALUE=URI;X-ADDRESS=Telstar 711 Stadion Minister van Houtenlaan 123 Velsen-Zuid 1981 EK Nederland;X-APPLE-RADIUS=500;X-TITLE=Minister van Houtenlaan 123:geo:4.63413,52.4549663
END:VEVENT
BEGIN:VEVENT
DTSTART;TZID=Europe/Amsterdam:20240503T200000
DTEND;TZID=Europe/Amsterdam:20240503T220000
DTSTAMP:20260419T162834
CREATED:20240113T090431Z
LAST-MODIFIED:20240113T090431Z
UID:10000098-1714766400-1714773600@ijmondagenda.nl
SUMMARY:Telstar-FC Groningen
DESCRIPTION:
URL:https://ijmondagenda.nl/event/telstar-fc-groningen/
LOCATION:Telstar 711 Stadion\, Minister van Houtenlaan 123\, Velsen-Zuid\, 1981 EK\, Nederland
ORGANIZER;CN="Telstar":MAILTO:info@sctelstar.nl
GEO:52.4549663;4.63413
X-APPLE-STRUCTURED-LOCATION;VALUE=URI;X-ADDRESS=Telstar 711 Stadion Minister van Houtenlaan 123 Velsen-Zuid 1981 EK Nederland;X-APPLE-RADIUS=500;X-TITLE=Minister van Houtenlaan 123:geo:4.63413,52.4549663
END:VEVENT
BEGIN:VEVENT
DTSTART;TZID=Europe/Amsterdam:20240425T170000
DTEND;TZID=Europe/Amsterdam:20240425T190000
DTSTAMP:20260419T162834
CREATED:20240115T100454Z
LAST-MODIFIED:20240408T182530Z
UID:10000119-1714064400-1714071600@ijmondagenda.nl
SUMMARY:Borrelbijeenkomst OV IJmond
DESCRIPTION:
URL:https://ijmondagenda.nl/event/borrelbijeenkomst-ov-ijmond-2/
LOCATION:Spijkers IJmuiden\, Kruitenstraat 1-3\, IJmuiden\, 1976 DM
ATTACH;FMTTYPE=image/png:https://ijmondagenda.nl/wp-content/uploads/2024/01/OV-IJmond.png
ORGANIZER;CN="OV IJmond":MAILTO:info@ovijmond.nl
END:VEVENT
BEGIN:VEVENT
DTSTART;TZID=Europe/Amsterdam:20240419T200000
DTEND;TZID=Europe/Amsterdam:20240419T220000
DTSTAMP:20260419T162834
CREATED:20240113T090350Z
LAST-MODIFIED:20240113T090350Z
UID:10000097-1713556800-1713564000@ijmondagenda.nl
SUMMARY:Telstar-FC Emmen
DESCRIPTION:
URL:https://ijmondagenda.nl/event/telstar-fc-emmen/
LOCATION:Telstar 711 Stadion\, Minister van Houtenlaan 123\, Velsen-Zuid\, 1981 EK\, Nederland
ORGANIZER;CN="Telstar":MAILTO:info@sctelstar.nl
GEO:52.4549663;4.63413
X-APPLE-STRUCTURED-LOCATION;VALUE=URI;X-ADDRESS=Telstar 711 Stadion Minister van Houtenlaan 123 Velsen-Zuid 1981 EK Nederland;X-APPLE-RADIUS=500;X-TITLE=Minister van Houtenlaan 123:geo:4.63413,52.4549663
END:VEVENT
BEGIN:VEVENT
DTSTART;TZID=Europe/Amsterdam:20240411T200000
DTEND;TZID=Europe/Amsterdam:20240411T220000
DTSTAMP:20260419T162834
CREATED:20240409T103447Z
LAST-MODIFIED:20240409T103447Z
UID:10000129-1712865600-1712872800@ijmondagenda.nl
SUMMARY:Algemene Ledenvergadering ondernemend3huis
DESCRIPTION:
URL:https://ijmondagenda.nl/event/algemene-ledenvergadering-ondernemend3huis/
ORGANIZER;CN="Ondernemend3huis":MAILTO:info@ondernemend3huis.nl
END:VEVENT
BEGIN:VEVENT
DTSTART;TZID=Europe/Amsterdam:20240405T200000
DTEND;TZID=Europe/Amsterdam:20240405T220000
DTSTAMP:20260419T162834
CREATED:20240113T090250Z
LAST-MODIFIED:20240113T090250Z
UID:10000096-1712347200-1712354400@ijmondagenda.nl
SUMMARY:Telstar-Jong PSV
DESCRIPTION:
URL:https://ijmondagenda.nl/event/telstar-jong-psv/
LOCATION:Telstar 711 Stadion\, Minister van Houtenlaan 123\, Velsen-Zuid\, 1981 EK\, Nederland
ORGANIZER;CN="Telstar":MAILTO:info@sctelstar.nl
GEO:52.4549663;4.63413
X-APPLE-STRUCTURED-LOCATION;VALUE=URI;X-ADDRESS=Telstar 711 Stadion Minister van Houtenlaan 123 Velsen-Zuid 1981 EK Nederland;X-APPLE-RADIUS=500;X-TITLE=Minister van Houtenlaan 123:geo:4.63413,52.4549663
END:VEVENT
BEGIN:VEVENT
DTSTART;TZID=Europe/Amsterdam:20240329T200000
DTEND;TZID=Europe/Amsterdam:20240329T220000
DTSTAMP:20260419T162834
CREATED:20240113T090153Z
LAST-MODIFIED:20240113T090153Z
UID:10000095-1711742400-1711749600@ijmondagenda.nl
SUMMARY:Telstar-Jong FC Utrecht
DESCRIPTION:
URL:https://ijmondagenda.nl/event/telstar-jong-fc-utrecht/
LOCATION:Telstar 711 Stadion\, Minister van Houtenlaan 123\, Velsen-Zuid\, 1981 EK\, Nederland
ORGANIZER;CN="Telstar":MAILTO:info@sctelstar.nl
GEO:52.4549663;4.63413
X-APPLE-STRUCTURED-LOCATION;VALUE=URI;X-ADDRESS=Telstar 711 Stadion Minister van Houtenlaan 123 Velsen-Zuid 1981 EK Nederland;X-APPLE-RADIUS=500;X-TITLE=Minister van Houtenlaan 123:geo:4.63413,52.4549663
END:VEVENT
BEGIN:VEVENT
DTSTART;TZID=Europe/Amsterdam:20240320T153000
DTEND;TZID=Europe/Amsterdam:20240320T193000
DTSTAMP:20260419T162834
CREATED:20240113T092750Z
LAST-MODIFIED:20240113T092750Z
UID:10000105-1710948600-1710963000@ijmondagenda.nl
SUMMARY:Evenemententop Velsen
DESCRIPTION:
URL:https://ijmondagenda.nl/event/evenemententop-velsen/
ORGANIZER;CN="Gemeente Velsen":MAILTO:duurzaam@velsen.nl
END:VEVENT
BEGIN:VEVENT
DTSTART;TZID=Europe/Amsterdam:20240315T200000
DTEND;TZID=Europe/Amsterdam:20240315T220000
DTSTAMP:20260419T162834
CREATED:20240113T090028Z
LAST-MODIFIED:20240113T090028Z
UID:10000094-1710532800-1710540000@ijmondagenda.nl
SUMMARY:Telstar-ADO Den Haag
DESCRIPTION:
URL:https://ijmondagenda.nl/event/telstar-ado-den-haag/
LOCATION:Telstar 711 Stadion\, Minister van Houtenlaan 123\, Velsen-Zuid\, 1981 EK\, Nederland
ORGANIZER;CN="Telstar":MAILTO:info@sctelstar.nl
GEO:52.4549663;4.63413
X-APPLE-STRUCTURED-LOCATION;VALUE=URI;X-ADDRESS=Telstar 711 Stadion Minister van Houtenlaan 123 Velsen-Zuid 1981 EK Nederland;X-APPLE-RADIUS=500;X-TITLE=Minister van Houtenlaan 123:geo:4.63413,52.4549663
END:VEVENT
BEGIN:VEVENT
DTSTART;TZID=Europe/Amsterdam:20240315T134500
DTEND;TZID=Europe/Amsterdam:20240315T230000
DTSTAMP:20260419T162834
CREATED:20240222T093239Z
LAST-MODIFIED:20240222T093239Z
UID:10000126-1710510300-1710543600@ijmondagenda.nl
SUMMARY:OV IJmond Meets BC Telstar Padel toernooi
DESCRIPTION:
URL:https://ijmondagenda.nl/event/ov-ijmond-meets-bc-telstar-padel-toernooi/
LOCATION:Peakz Padel Heemskerk
ORGANIZER;CN="OV IJmond":MAILTO:info@ovijmond.nl
END:VEVENT
BEGIN:VEVENT
DTSTART;TZID=Europe/Amsterdam:20240314T114500
DTEND;TZID=Europe/Amsterdam:20240314T140000
DTSTAMP:20260419T162834
CREATED:20240208T093623Z
LAST-MODIFIED:20240208T093736Z
UID:10000124-1710416700-1710424800@ijmondagenda.nl
SUMMARY:Ledenlunch OV IJmond
DESCRIPTION:
URL:https://ijmondagenda.nl/event/ledenlunch-2/
LOCATION:Tata Steel\, Wenckebachstraat 1\, Velsen-Noord\, 1951 JZ
ATTACH;FMTTYPE=image/png:https://ijmondagenda.nl/wp-content/uploads/2024/01/OV-IJmond.png
ORGANIZER;CN="OV IJmond":MAILTO:info@ovijmond.nl
END:VEVENT
BEGIN:VEVENT
DTSTART;TZID=Europe/Amsterdam:20240305T130000
DTEND;TZID=Europe/Amsterdam:20240305T160000
DTSTAMP:20260419T162834
CREATED:20240113T092456Z
LAST-MODIFIED:20240113T092456Z
UID:10000104-1709643600-1709654400@ijmondagenda.nl
SUMMARY:Beroepenfeest IJmond Zuid-Kennemerland On Stage
DESCRIPTION:
URL:https://ijmondagenda.nl/event/beroepenfeest-ijmond-zuid-kennemerland-on-stage/
END:VEVENT
BEGIN:VEVENT
DTSTART;TZID=Europe/Amsterdam:20240301T200000
DTEND;TZID=Europe/Amsterdam:20240301T220000
DTSTAMP:20260419T162834
CREATED:20240113T085921Z
LAST-MODIFIED:20240113T085921Z
UID:10000093-1709323200-1709330400@ijmondagenda.nl
SUMMARY:Telstar-Roda JC
DESCRIPTION:
URL:https://ijmondagenda.nl/event/telstar-roda-jc/
LOCATION:Telstar 711 Stadion\, Minister van Houtenlaan 123\, Velsen-Zuid\, 1981 EK\, Nederland
ORGANIZER;CN="Telstar":MAILTO:info@sctelstar.nl
GEO:52.4549663;4.63413
X-APPLE-STRUCTURED-LOCATION;VALUE=URI;X-ADDRESS=Telstar 711 Stadion Minister van Houtenlaan 123 Velsen-Zuid 1981 EK Nederland;X-APPLE-RADIUS=500;X-TITLE=Minister van Houtenlaan 123:geo:4.63413,52.4549663
END:VEVENT
BEGIN:VEVENT
DTSTART;TZID=Europe/Amsterdam:20240301T160000
DTEND;TZID=Europe/Amsterdam:20240301T200000
DTSTAMP:20260419T162834
CREATED:20240113T090815Z
LAST-MODIFIED:20240113T090912Z
UID:10000099-1709308800-1709323200@ijmondagenda.nl
SUMMARY:Port of Football: Toekomst NZKG
DESCRIPTION:Het rijk\, de regio en partners hebben een perspectief geschetst voor de ontwikkeling van het Noordzeekanaalgebied. Wat betekent dit voor de ondernemers in onze regio? Hoe groot is de beschikbare ruimte om te groeien? Hoe ziet de infrastructuur voor de energievoorziening eruit? Welke rol speelt het vergroenen van de productie van staal? En hoe belangrijk is de energiehaven in het realiseren van de ambities voor windmolenparken voor de kust van IJmuiden? \nDit event wordt georganiseerd door AYOP en IJPOS en mede mogelijk gemaakt door Port of Amsterdam\, Zeehaven IJmuiden\, Programmabureau Noordzeekanaalgebied en Citymarketing Velsen | ijmuiden.nl.
URL:https://ijmondagenda.nl/event/port-of-football/
LOCATION:Telstar 711 Stadion\, Minister van Houtenlaan 123\, Velsen-Zuid\, 1981 EK\, Nederland
ORGANIZER;CN="Telstar":MAILTO:info@sctelstar.nl
GEO:52.4549663;4.63413
X-APPLE-STRUCTURED-LOCATION;VALUE=URI;X-ADDRESS=Telstar 711 Stadion Minister van Houtenlaan 123 Velsen-Zuid 1981 EK Nederland;X-APPLE-RADIUS=500;X-TITLE=Minister van Houtenlaan 123:geo:4.63413,52.4549663
END:VEVENT
BEGIN:VEVENT
DTSTART;TZID=Europe/Paris:20240216T200000
DTEND;TZID=Europe/Paris:20240216T220000
DTSTAMP:20260419T162834
CREATED:20240104T072538Z
LAST-MODIFIED:20240109T114931Z
UID:10000090-1708113600-1708120800@ijmondagenda.nl
SUMMARY:Telstar-NAC Breda
DESCRIPTION:
URL:https://ijmondagenda.nl/event/telstar-nac-breda/
LOCATION:Telstar 711 Stadion\, Minister van Houtenlaan 123\, Velsen-Zuid\, 1981 EK\, Nederland
ATTACH;FMTTYPE=image/png:https://ijmondagenda.nl/wp-content/uploads/2024/01/Telstar.png
ORGANIZER;CN="Telstar":MAILTO:info@sctelstar.nl
GEO:52.4549663;4.63413
X-APPLE-STRUCTURED-LOCATION;VALUE=URI;X-ADDRESS=Telstar 711 Stadion Minister van Houtenlaan 123 Velsen-Zuid 1981 EK Nederland;X-APPLE-RADIUS=500;X-TITLE=Minister van Houtenlaan 123:geo:4.63413,52.4549663
END:VEVENT
BEGIN:VEVENT
DTSTART;TZID=Europe/Amsterdam:20240215T170000
DTEND;TZID=Europe/Amsterdam:20240215T190000
DTSTAMP:20260419T162834
CREATED:20240115T094106Z
LAST-MODIFIED:20240208T093716Z
UID:10000116-1708016400-1708023600@ijmondagenda.nl
SUMMARY:Borrelbijeenkomst OV IJmond
DESCRIPTION:
URL:https://ijmondagenda.nl/event/borrelbijeenkomst-ov-ijmond/
LOCATION:Brafoer Heemskerk\, Burgemeester Nielenplein 44\, Heemskerk\, 1961NV
ATTACH;FMTTYPE=image/png:https://ijmondagenda.nl/wp-content/uploads/2024/01/OV-IJmond.png
ORGANIZER;CN="OV IJmond":MAILTO:info@ovijmond.nl
END:VEVENT
BEGIN:VEVENT
DTSTART;TZID=Europe/Paris:20240209T200000
DTEND;TZID=Europe/Paris:20240209T220000
DTSTAMP:20260419T162834
CREATED:20240104T072058Z
LAST-MODIFIED:20240109T114818Z
UID:10000089-1707508800-1707516000@ijmondagenda.nl
SUMMARY:Telstar-Helmond Sport
DESCRIPTION:
URL:https://ijmondagenda.nl/event/telstar-helmond-sport/
LOCATION:Telstar 711 Stadion\, Minister van Houtenlaan 123\, Velsen-Zuid\, 1981 EK\, Nederland
ATTACH;FMTTYPE=image/png:https://ijmondagenda.nl/wp-content/uploads/2024/01/Telstar.png
ORGANIZER;CN="Telstar":MAILTO:info@sctelstar.nl
GEO:52.4549663;4.63413
X-APPLE-STRUCTURED-LOCATION;VALUE=URI;X-ADDRESS=Telstar 711 Stadion Minister van Houtenlaan 123 Velsen-Zuid 1981 EK Nederland;X-APPLE-RADIUS=500;X-TITLE=Minister van Houtenlaan 123:geo:4.63413,52.4549663
END:VEVENT
BEGIN:VEVENT
DTSTART;TZID=Europe/Paris:20240126T200000
DTEND;TZID=Europe/Paris:20240126T220000
DTSTAMP:20260419T162834
CREATED:20240104T071809Z
LAST-MODIFIED:20240109T114700Z
UID:10000088-1706299200-1706306400@ijmondagenda.nl
SUMMARY:Telstar-FC Den Bosch
DESCRIPTION:
URL:https://ijmondagenda.nl/event/telstar-fc-den-bosch/
LOCATION:Telstar 711 Stadion\, Minister van Houtenlaan 123\, Velsen-Zuid\, 1981 EK\, Nederland
ATTACH;FMTTYPE=image/png:https://ijmondagenda.nl/wp-content/uploads/2024/01/Telstar.png
ORGANIZER;CN="Telstar":MAILTO:info@sctelstar.nl
GEO:52.4549663;4.63413
X-APPLE-STRUCTURED-LOCATION;VALUE=URI;X-ADDRESS=Telstar 711 Stadion Minister van Houtenlaan 123 Velsen-Zuid 1981 EK Nederland;X-APPLE-RADIUS=500;X-TITLE=Minister van Houtenlaan 123:geo:4.63413,52.4549663
END:VEVENT
BEGIN:VEVENT
DTSTART;TZID=Europe/Amsterdam:20240118T083000
DTEND;TZID=Europe/Amsterdam:20240118T113000
DTSTAMP:20260419T162834
CREATED:20240113T092128Z
LAST-MODIFIED:20240113T092128Z
UID:10000103-1705566600-1705577400@ijmondagenda.nl
SUMMARY:IJPOS Champagneontbijt
DESCRIPTION:
URL:https://ijmondagenda.nl/event/ijpos-champagneontbijt/
ORGANIZER;CN="IJPOS":MAILTO:secretariaat@ijpos.nl
END:VEVENT
END:VCALENDAR