BEGIN:VCALENDAR
VERSION:2.0
PRODID:-//IJmond Agenda - ECPv6.2.9//NONSGML v1.0//EN
CALSCALE:GREGORIAN
METHOD:PUBLISH
X-ORIGINAL-URL:https://ijmondagenda.nl
X-WR-CALDESC:Evenementen voor IJmond Agenda
REFRESH-INTERVAL;VALUE=DURATION:PT1H
X-Robots-Tag:noindex
X-PUBLISHED-TTL:PT1H
BEGIN:VTIMEZONE
TZID:UTC
BEGIN:STANDARD
TZOFFSETFROM:+0000
TZOFFSETTO:+0000
TZNAME:UTC
DTSTART:20230101T000000
END:STANDARD
END:VTIMEZONE
BEGIN:VEVENT
DTSTART;TZID=UTC:20230622T160000
DTEND;TZID=UTC:20230622T183000
DTSTAMP:20260420T071615
CREATED:20230420T064505Z
LAST-MODIFIED:20230614T052300Z
UID:10000034-1687449600-1687458600@ijmondagenda.nl
SUMMARY:Haringparty
DESCRIPTION:
URL:https://ijmondagenda.nl/event/haringparty/
LOCATION:Vishal D\, Halkade 4\, IJmuiden\, 1976DC\, Nederland
ORGANIZER;CN="OV IJmond":MAILTO:info@ovijmond.nl
END:VEVENT
END:VCALENDAR